BEGIN:VCALENDAR
VERSION:2.0
PRODID:icalendar-ruby
CALSCALE:GREGORIAN
METHOD:PUBLISH
BEGIN:VEVENT
DTSTAMP:20260420T085027Z
UID:54-1269989@weirtonumcharge.org
DTSTART:20260524T140000Z
DTEND:20260524T153000Z
CLASS:PUBLIC
CREATED:20260326T200331
DESCRIPTION:
LAST-MODIFIED:20260326T200331
LOCATION:FUMC
SUMMARY:CHILDRENS SUNDAY SCHOOL 
URL;VALUE=URI:https://www.weirtonumcharge.org/events/childrens-sunday-schoo
 l/2026-05-24
END:VEVENT
END:VCALENDAR
