BEGIN:VCALENDAR
VERSION:2.0
PRODID:icalendar-ruby
CALSCALE:GREGORIAN
METHOD:PUBLISH
BEGIN:VEVENT
DTSTAMP:20260420T162544Z
UID:33-1269248@weirtonumcharge.org
DTSTART:20260511T223000Z
DTEND:20260511T233000Z
CLASS:PUBLIC
CREATED:20260326T190742
DESCRIPTION:
LAST-MODIFIED:20260326T190742
LOCATION:FUMC
SUMMARY:AA Meeting
URL;VALUE=URI:https://www.weirtonumcharge.org/events/aa-meeting--33/2026-05
 -11
END:VEVENT
END:VCALENDAR
